BEGIN:VCALENDAR
VERSION:2.0
PRODID:-//eventon.com NONSGML v1.0//EN
CALSCALE:GREGORIAN
METHOD:PUBLISH
BEGIN:VEVENT
UID:69e72d7e69c49
DTSTAMP:20260421T075542Z
DTSTART:20221007
DTEND:20221008
LOCATION:
SUMMARY:End of First Quarter - No School
DESCRIPTION:End of First Quarter - No School\nhttps://lcamustangs.com/event
 s-calendar/end-of-first-quarter-no-school/
URL:https://lcamustangs.com/events-calendar/end-of-first-quarter-no-school/
END:VEVENT
END:VCALENDAR