BEGIN:VCALENDAR
VERSION:2.0
PRODID:-//eventon.com NONSGML v1.0//EN
CALSCALE:GREGORIAN
METHOD:PUBLISH
BEGIN:VEVENT
UID:69e734d32bff4
DTSTAMP:20260421T082659Z
DTSTART:20260403T123000Z
DTEND:20260403T195600Z
LOCATION:
SUMMARY:Good Friday-No School
DESCRIPTION:\nhttps://lcamustangs.com/events-calendar/good-friday-no-school
 -2/
URL:https://lcamustangs.com/events-calendar/good-friday-no-school-2/
END:VEVENT
END:VCALENDAR